BEGIN:VCALENDAR
VERSION:2.0
PRODID:-//FACE Maine et Loire - ECPv6.15.17.1//NONSGML v1.0//EN
CALSCALE:GREGORIAN
METHOD:PUBLISH
X-WR-CALNAME:FACE Maine et Loire
X-ORIGINAL-URL:https://face-maineetloire.com
X-WR-CALDESC:Évènements pour FACE Maine et Loire
REFRESH-INTERVAL;VALUE=DURATION:PT1H
X-Robots-Tag:noindex
X-PUBLISHED-TTL:PT1H
BEGIN:VTIMEZONE
TZID:Europe/Paris
BEGIN:DAYLIGHT
TZOFFSETFROM:+0100
TZOFFSETTO:+0200
TZNAME:CEST
DTSTART:20230326T010000
END:DAYLIGHT
BEGIN:STANDARD
TZOFFSETFROM:+0200
TZOFFSETTO:+0100
TZNAME:CET
DTSTART:20231029T010000
END:STANDARD
BEGIN:DAYLIGHT
TZOFFSETFROM:+0100
TZOFFSETTO:+0200
TZNAME:CEST
DTSTART:20240331T010000
END:DAYLIGHT
BEGIN:STANDARD
TZOFFSETFROM:+0200
TZOFFSETTO:+0100
TZNAME:CET
DTSTART:20241027T010000
END:STANDARD
BEGIN:DAYLIGHT
TZOFFSETFROM:+0100
TZOFFSETTO:+0200
TZNAME:CEST
DTSTART:20250330T010000
END:DAYLIGHT
BEGIN:STANDARD
TZOFFSETFROM:+0200
TZOFFSETTO:+0100
TZNAME:CET
DTSTART:20251026T010000
END:STANDARD
END:VTIMEZONE
BEGIN:VEVENT
DTSTART;TZID=Europe/Paris:20240704T083000
DTEND;TZID=Europe/Paris:20240704T123000
DTSTAMP:20260423T031258
CREATED:20240610T180807Z
LAST-MODIFIED:20240611T072310Z
UID:10000121-1720081800-1720096200@face-maineetloire.com
SUMMARY:Patron(s) dans ma ville
DESCRIPTION:Animé par le club FACE Maine-et-Loire\, le collectif des Entreprises s’Engagent en Maine-et-Loire propose de passer à l’action et de participer au prochain événement local : \n🤝 « Patron(s) dans ma ville « \n📍 à Angers à la Maison de Quartier Marcelle Menet\, Mail Clément Pasquereau 49100 \n🔜 Jeudi 4 juillet 2024\n⏰ 8h30 à 12h30\n📌 L’évènement sera l’occasion pour les dirigeant.e.s présent.e.s de partager leurs expériences et leurs visions de leur métier puis d’échanger avec les jeunes de la ville en leur permettant de s’exprimer sur ce qu’est\, selon eux\, l’entreprise en 2024. \n🎯 L’objectif de cette action est d’offrir à des jeunes des quartiers prioritaires de la ville des rencontres et des échanges privilégiés avec des représentant.e.s d’entreprise. Si vous le souhaitez vous pourrez également proposer des immersions au sein de votre entreprise. La matinée débutera autour d’un petit-déjeuner et sera clôturée autour d’un buffet déjeunatoire. \n💡 A l’issue de la rencontre\, les entreprises pourront proposer des immersions au sein de leur structure et équipes en lien avec la plateforme « Immersion Facilité ». L’action est organisée en partenariat avec les équipes de la Mission Locale Angevine\, la Maison de Quartier Marcelle Menet et France Travail. \nEn participant à cette action vous développez vos engagement sur les thématique suivante ⤵️ \n\nInsertion professionnelle des jeunes\,\nInsertion professionnelle des habitant.e.s des quartiers prioritaires de la ville.\n\nPour vous inscrire sur cette action merci de bien vouloir compléter le formulaire en ⏩ cliquant ici ⏪ \n🆙 N’hésitez pas à nous contacter si vous souhaitez des informations complémentaires sur cet événement.
URL:https://face-maineetloire.com/event/patrons-dans-ma-ville/
LOCATION:Maison de Quartier Marcelle Menet\, Mail Clément Pasquereau\, Angers\, Maine-et-Loire\, 49100\, France
CATEGORIES:Emploi,Entreprises
ATTACH;FMTTYPE=image/jpeg:https://face-maineetloire.com/wp-content/uploads/2024/06/Patrons-dans-ma-ville-RS.jpg
ORGANIZER;CN="Les entreprises s'Engagent en Maine-et-Loire":MAILTO:lesentreprisessengagent.49@gmail.com
GEO:47.4722386;-0.5316388
X-APPLE-STRUCTURED-LOCATION;VALUE=URI;X-ADDRESS=Maison de Quartier Marcelle Menet Mail Clément Pasquereau Angers Maine-et-Loire 49100 France;X-APPLE-RADIUS=500;X-TITLE=Mail Clément Pasquereau:geo:-0.5316388,47.4722386
END:VEVENT
BEGIN:VEVENT
DTSTART;TZID=Europe/Paris:20240725T093000
DTEND;TZID=Europe/Paris:20240725T120000
DTSTAMP:20260423T031258
CREATED:20240614T121508Z
LAST-MODIFIED:20240625T081200Z
UID:10000122-1721899800-1721908800@face-maineetloire.com
SUMMARY:Simulation d'Entretien de Recrutement
DESCRIPTION:🤔 Des projets pour 2024 ? Cartonner aux entretiens de recrutement ! \n😉 Première étape : Se préparer ! \n💡 Action : Participer aux simulations d’entretiens de recrutement organisées par FACE Maine-et-Loire et la SOFTEC ! \nJeudi 25 juillet 2024\nDe 9h30 à 12h00\nA la SOFTEC – Centre de Formation Professionnelle\, Chemin du Bocage\, 49240 Avrillé\nIl y a 10 places ! Contactez Julie si vous êtes intéressé·e pour participer à cet exercice.\nPour cela\, rien de plus simple\, envoyez un mail à jr.faceangersloire@gmail.com\nN’hésitez pas à vous inscrire vite vite vite ⏱️
URL:https://face-maineetloire.com/event/simulation-dentretien-de-recrutement/
LOCATION:SOFTEC\, Chemin du Bocage\, Avrillé\, 49240\, France
CATEGORIES:Emploi
ATTACH;FMTTYPE=image/jpeg:https://face-maineetloire.com/wp-content/uploads/2024/06/SER-Softec-2507.jpg
GEO:47.5027942;-0.5815658
X-APPLE-STRUCTURED-LOCATION;VALUE=URI;X-ADDRESS=SOFTEC Chemin du Bocage Avrillé 49240 France;X-APPLE-RADIUS=500;X-TITLE=Chemin du Bocage:geo:-0.5815658,47.5027942
END:VEVENT
END:VCALENDAR