BEGIN:VCALENDAR
VERSION:2.0
PRODID:-//FACE Maine et Loire - ECPv6.15.17.1//NONSGML v1.0//EN
CALSCALE:GREGORIAN
METHOD:PUBLISH
X-ORIGINAL-URL:https://face-maineetloire.com
X-WR-CALDESC:Évènements pour FACE Maine et Loire
REFRESH-INTERVAL;VALUE=DURATION:PT1H
X-Robots-Tag:noindex
X-PUBLISHED-TTL:PT1H
BEGIN:VTIMEZONE
TZID:Europe/Paris
BEGIN:DAYLIGHT
TZOFFSETFROM:+0100
TZOFFSETTO:+0200
TZNAME:CEST
DTSTART:20230326T010000
END:DAYLIGHT
BEGIN:STANDARD
TZOFFSETFROM:+0200
TZOFFSETTO:+0100
TZNAME:CET
DTSTART:20231029T010000
END:STANDARD
BEGIN:DAYLIGHT
TZOFFSETFROM:+0100
TZOFFSETTO:+0200
TZNAME:CEST
DTSTART:20240331T010000
END:DAYLIGHT
BEGIN:STANDARD
TZOFFSETFROM:+0200
TZOFFSETTO:+0100
TZNAME:CET
DTSTART:20241027T010000
END:STANDARD
BEGIN:DAYLIGHT
TZOFFSETFROM:+0100
TZOFFSETTO:+0200
TZNAME:CEST
DTSTART:20250330T010000
END:DAYLIGHT
BEGIN:STANDARD
TZOFFSETFROM:+0200
TZOFFSETTO:+0100
TZNAME:CET
DTSTART:20251026T010000
END:STANDARD
END:VTIMEZONE
BEGIN:VEVENT
DTSTART;TZID=Europe/Paris:20241119T083000
DTEND;TZID=Europe/Paris:20241119T123000
DTSTAMP:20260419T143315
CREATED:20240923T135716Z
LAST-MODIFIED:20240923T135716Z
UID:10000135-1732005000-1732019400@face-maineetloire.com
SUMMARY:Cho' pour l'emploi - 2ème édition
DESCRIPTION:Cet événement fait suite à une première rencontre « Cho’ pour l’emploi’ du 16 février dernier lors duquel les échanges ont permis la construction d’une deuxième édition ! \nObjectif : co-construire ensemble ! \n📆  Mardi 19 novembre \n🕑 de 8h30 à 12h30 \n💡 Tiers-lieu Monade – 37 Bd du Général Faidherbe\, 49300 Cholet \nAu programme :\nL’objectif est une rencontre\, des échanges avec des entreprises du territoire et des référents qui accompagnent un public en recherche d’emploi\, pour parler de leurs quotidiens\, du recrutement\, des réussites et des freins\, des conditions de travail\, de l’accompagnement vers l’emploi … c’est-à-dire mieux comprendre la réalité de chacun pour mieux collaborer. \nMerci à nos partenaires pour le soutien à l’organisation de l’événement : France Travail\, CAP Emploi 49\, le PAQTE ainsi que la Mission Locale Choletaise ! \nRenseignements et inscriptions :\n📝  Vous souhaitez des informations supplémentaires sur l’événement ?\nN’hésitez pas à contacter Julie : jrondier@face-maineetloire.com
URL:https://face-maineetloire.com/event/cho-pour-lemploi-2eme-edition/
LOCATION:Tiers-lieu Monade\, Boulevard du Général Faidherbe\, Cholet\, Maine-et-Loire\, 49300\, France
CATEGORIES:Emploi
ATTACH;FMTTYPE=image/jpeg:https://face-maineetloire.com/wp-content/uploads/2024/09/Cho-pour-lemploi-2-1.jpg
ORGANIZER;CN="Les entreprises s'Engagent en Maine-et-Loire":MAILTO:lesentreprisessengagent.49@gmail.com
GEO:47.066644;-0.8728066
X-APPLE-STRUCTURED-LOCATION;VALUE=URI;X-ADDRESS=Tiers-lieu Monade Boulevard du Général Faidherbe Cholet Maine-et-Loire 49300 France;X-APPLE-RADIUS=500;X-TITLE=Boulevard du Général Faidherbe:geo:-0.8728066,47.066644
END:VEVENT
END:VCALENDAR