BEGIN:VCALENDAR
VERSION:2.0
PRODID:-//FACE Maine et Loire - ECPv6.15.17.1//NONSGML v1.0//EN
CALSCALE:GREGORIAN
METHOD:PUBLISH
X-WR-CALNAME:FACE Maine et Loire
X-ORIGINAL-URL:https://face-maineetloire.com
X-WR-CALDESC:Évènements pour FACE Maine et Loire
REFRESH-INTERVAL;VALUE=DURATION:PT1H
X-Robots-Tag:noindex
X-PUBLISHED-TTL:PT1H
BEGIN:VTIMEZONE
TZID:Europe/Paris
BEGIN:DAYLIGHT
TZOFFSETFROM:+0100
TZOFFSETTO:+0200
TZNAME:CEST
DTSTART:20220327T010000
END:DAYLIGHT
BEGIN:STANDARD
TZOFFSETFROM:+0200
TZOFFSETTO:+0100
TZNAME:CET
DTSTART:20221030T010000
END:STANDARD
BEGIN:DAYLIGHT
TZOFFSETFROM:+0100
TZOFFSETTO:+0200
TZNAME:CEST
DTSTART:20230326T010000
END:DAYLIGHT
BEGIN:STANDARD
TZOFFSETFROM:+0200
TZOFFSETTO:+0100
TZNAME:CET
DTSTART:20231029T010000
END:STANDARD
BEGIN:DAYLIGHT
TZOFFSETFROM:+0100
TZOFFSETTO:+0200
TZNAME:CEST
DTSTART:20240331T010000
END:DAYLIGHT
BEGIN:STANDARD
TZOFFSETFROM:+0200
TZOFFSETTO:+0100
TZNAME:CET
DTSTART:20241027T010000
END:STANDARD
END:VTIMEZONE
BEGIN:VEVENT
DTSTART;TZID=Europe/Paris:20230616T083000
DTEND;TZID=Europe/Paris:20230616T120000
DTSTAMP:20260423T182518
CREATED:20230414T120633Z
LAST-MODIFIED:20230414T120633Z
UID:10000072-1686904200-1686916800@face-maineetloire.com
SUMMARY:Les Entreprises S'Engagent : Rendez-vous Partage de Bonnes Pratiques
DESCRIPTION:Le rendez-vous des entreprises engagées pour l’Inclusion\n📅 Vendredi 16 juin 2023\n⌚ De 8h30 à 12h00\n📍 Préfecture de Maine-et-Loire\, 11 Pl. Michel Debré\, 49100 Angers\n  \n📌 Organisé en présence de Monsieur Le Préfet\, Pierre OURY\, et la Secrétaire Générale Magali DAVERTON\, ce rendez-vous réunira les partenaires institutionnels et économiques du territoire qui œuvrent pour l’inclusion et l’emploi dans un monde plus durable. \n🔎 Le collectif Les Entreprises s’Engagent en Maine-et-Loire vise à encourager les entreprises à s’engager localement\, ainsi cet événement sera l’opportunité de mettre en lumière le dispositif PAQTE ainsi que le SPIE et France Travail. \n  \n💡 Programme de l’événement\n• Rencontres des entreprises du collectif et échanges autour de thématiques sociales et sociétales (le Handicap\, les Jeunes et les Seniors) \n• Présentation des différentes actions et événements de l’année 2023 du collectif \n• Définition de l’action commune pour le deuxième semestre \n• Présentation des différentes aides à l’embauche et partage de bonnes pratiques entre pairs. \n  \n🔎 Vous souhaitez en savoir plus sur le collectif Les Entreprises S’Engagent ?\n➡️ Rendez-vous sur la page du club FACE Maine-et-Loire\, l’animateur du collectif local \n➡️ Pour en savoir plus sur le collectif\, demandez un rendez-vous Point Flash avec nous en envoyant un mail à communication.face49@gmail.com \nVotre inscription\n📝 N’hésitez pas à vous inscrire sur Eventbrite !
URL:https://face-maineetloire.com/event/les-entreprises-sengagent-rendez-vous-partage-de-bonnes-pratiques/
LOCATION:Angers\, Angers\, Maine-et-Loire\, France
CATEGORIES:Entreprises
ATTACH;FMTTYPE=image/jpeg:https://face-maineetloire.com/wp-content/uploads/2023/04/Invitation-16-juin.jpg
GEO:47.4711616;-0.5518257
END:VEVENT
END:VCALENDAR