BEGIN:VCALENDAR
VERSION:2.0
PRODID:-//FACE Maine et Loire - ECPv6.15.17.1//NONSGML v1.0//EN
CALSCALE:GREGORIAN
METHOD:PUBLISH
X-ORIGINAL-URL:https://face-maineetloire.com
X-WR-CALDESC:Évènements pour FACE Maine et Loire
REFRESH-INTERVAL;VALUE=DURATION:PT1H
X-Robots-Tag:noindex
X-PUBLISHED-TTL:PT1H
BEGIN:VTIMEZONE
TZID:Europe/Paris
BEGIN:DAYLIGHT
TZOFFSETFROM:+0100
TZOFFSETTO:+0200
TZNAME:CEST
DTSTART:20230326T010000
END:DAYLIGHT
BEGIN:STANDARD
TZOFFSETFROM:+0200
TZOFFSETTO:+0100
TZNAME:CET
DTSTART:20231029T010000
END:STANDARD
BEGIN:DAYLIGHT
TZOFFSETFROM:+0100
TZOFFSETTO:+0200
TZNAME:CEST
DTSTART:20240331T010000
END:DAYLIGHT
BEGIN:STANDARD
TZOFFSETFROM:+0200
TZOFFSETTO:+0100
TZNAME:CET
DTSTART:20241027T010000
END:STANDARD
BEGIN:DAYLIGHT
TZOFFSETFROM:+0100
TZOFFSETTO:+0200
TZNAME:CEST
DTSTART:20250330T010000
END:DAYLIGHT
BEGIN:STANDARD
TZOFFSETFROM:+0200
TZOFFSETTO:+0100
TZNAME:CET
DTSTART:20251026T010000
END:STANDARD
END:VTIMEZONE
BEGIN:VEVENT
DTSTART;TZID=Europe/Paris:20240320T133000
DTEND;TZID=Europe/Paris:20240320T170000
DTSTAMP:20260421T050526
CREATED:20240222T165705Z
LAST-MODIFIED:20240222T165705Z
UID:10000110-1710941400-1710954000@face-maineetloire.com
SUMMARY:Visite Wi-Filles / We Network
DESCRIPTION:✨ Évènement 100% GIRL POWER et ouvert pour 15 jeunes filles\, n’hésitez pas\, venez avec nous ! \nProgramme\n🛜 Nous proposons une visite de l’entreprise We Network pour des jeunes filles (collégiennes ou lycéennes) intéressées par les métiers du numérique et de la tech ou curieuses de les découvrir ! \n💻 Un point de rendez-vous sera donné à 13h30 pour se rendre en groupe à l’entreprise pour 14h00 et ainsi passer une après-midi de découverte et d’activités autour des technologies et du numérique ! \nInscription\nPour participer\, rien de plus simple : suivez ce lien !
URL:https://face-maineetloire.com/event/visite-wi-filles-we-network/
LOCATION:We Network\, 7 Rue du Bon Puits\, Verrières-en-Anjou\, Maine-et-Loire\, 49480\, France
CATEGORIES:Orientation & Formation
ATTACH;FMTTYPE=image/jpeg:https://face-maineetloire.com/wp-content/uploads/2024/02/Aprem-Wi-Filles-Thales.jpg
GEO:47.4947333;-0.4924076
X-APPLE-STRUCTURED-LOCATION;VALUE=URI;X-ADDRESS=We Network 7 Rue du Bon Puits Verrières-en-Anjou Maine-et-Loire 49480 France;X-APPLE-RADIUS=500;X-TITLE=7 Rue du Bon Puits:geo:-0.4924076,47.4947333
END:VEVENT
BEGIN:VEVENT
DTSTART;TZID=Europe/Paris:20240321T083000
DTEND;TZID=Europe/Paris:20240321T100000
DTSTAMP:20260421T050526
CREATED:20240212T141120Z
LAST-MODIFIED:20240212T141505Z
UID:10000103-1711009800-1711015200@face-maineetloire.com
SUMMARY:Les Pitchs qui nourrissent votre RSE – 5ème édition
DESCRIPTION:Des acteurs locaux pitchent leur(s) solution(s) pour aider les entreprises dans leur impact sociétal et environnemental sur le territoire ! \n\nÀ propos de cet évènement\n\n\n\n\n⏱️ Chaque pitcheur dispose de 8 minutes pour présenter son service aux entreprises présentes. Cette solution doit être en mesure d’aider les entreprises dans leur impact sociétal et environnemental local. \n💡 Après ces 8 minutes\, chaque entreprise peut faire le choix de poursuivre les échanges autour de douceurs et de boissons chaudes. \n  \n🔎 Programme de l’évènement\n👋 Bonjour : Le mot d’accueil de FACE Maine-et-Loire et présentation des actualités du Club \n🎙️ Pitchs : Les acteurs locaux vous présentent leur(s) solution(s) pour vous aider dans votre impact sociétal et environnemental \n☕ Échanges : Questions/réponses entre participant·e·s autour d’un petit-déjeuner \n  \n 🎈 Pitcheurs invité·e·s :\n\n\n\n🌞 Terra Sana (Bien-être) \n🌞 My Lisa (Service Social) \n🌞 Créateur de déclic (Transition écologique) \n🌞 Asure (Entreprise à but d’emploi) \n  \n🔆 Inscription\nPour participer à l’événement\, rien de plus simple ! Il suffit de vous inscrire sur le lien Eventbrite.
URL:https://face-maineetloire.com/event/les-pitchs-qui-nourrissent-votre-rse-5eme-edition/
LOCATION:Asure\, 95 rue de la torpille\, Saumur\, Maine-et-Loire\, 49400
CATEGORIES:Entreprises
ATTACH;FMTTYPE=image/jpeg:https://face-maineetloire.com/wp-content/uploads/2024/02/Pitchs-de-la-RSE.jpg
GEO:47.241675;-0.072017
X-APPLE-STRUCTURED-LOCATION;VALUE=URI;X-ADDRESS=Asure 95 rue de la torpille Saumur Maine-et-Loire 49400;X-APPLE-RADIUS=500;X-TITLE=95 rue de la torpille:geo:-0.072017,47.241675
END:VEVENT
END:VCALENDAR