BEGIN:VCALENDAR
VERSION:2.0
PRODID:-//FACE Maine et Loire - ECPv6.15.17.1//NONSGML v1.0//EN
CALSCALE:GREGORIAN
METHOD:PUBLISH
X-WR-CALNAME:FACE Maine et Loire
X-ORIGINAL-URL:https://face-maineetloire.com
X-WR-CALDESC:Évènements pour FACE Maine et Loire
REFRESH-INTERVAL;VALUE=DURATION:PT1H
X-Robots-Tag:noindex
X-PUBLISHED-TTL:PT1H
BEGIN:VTIMEZONE
TZID:Europe/Paris
BEGIN:DAYLIGHT
TZOFFSETFROM:+0100
TZOFFSETTO:+0200
TZNAME:CEST
DTSTART:20240331T010000
END:DAYLIGHT
BEGIN:STANDARD
TZOFFSETFROM:+0200
TZOFFSETTO:+0100
TZNAME:CET
DTSTART:20241027T010000
END:STANDARD
BEGIN:DAYLIGHT
TZOFFSETFROM:+0100
TZOFFSETTO:+0200
TZNAME:CEST
DTSTART:20250330T010000
END:DAYLIGHT
BEGIN:STANDARD
TZOFFSETFROM:+0200
TZOFFSETTO:+0100
TZNAME:CET
DTSTART:20251026T010000
END:STANDARD
BEGIN:DAYLIGHT
TZOFFSETFROM:+0100
TZOFFSETTO:+0200
TZNAME:CEST
DTSTART:20260329T010000
END:DAYLIGHT
BEGIN:STANDARD
TZOFFSETFROM:+0200
TZOFFSETTO:+0100
TZNAME:CET
DTSTART:20261025T010000
END:STANDARD
END:VTIMEZONE
BEGIN:VEVENT
DTSTART;TZID=Europe/Paris:20250918T120000
DTEND;TZID=Europe/Paris:20250918T133000
DTSTAMP:20260419T225812
CREATED:20250611T122840Z
LAST-MODIFIED:20250611T140921Z
UID:10000162-1758196800-1758202200@face-maineetloire.com
SUMMARY:Lunchwork de rentrée 2025
DESCRIPTION:Le club FACE Maine-et-Loire ainsi que le collectif des Entreprises s’Engagent en Maine-et-Loire sont heureux de vous convier au Lunchwork de rentrée 2025 😊 \n \n📆  Jeudi 18 septembre \n🕑 de 12h00 à 13h30 \n💡 dans les locaux de FACE Maine-et-Loire\, au 34 rue des Noyers à Angers \n  \nCe rendez-vous nous permettra de vous retrouver pour la rentrée et de vous présenter des nouvelles actions du club et du collectif. Des animations et des moments conviviaux vous seront proposés tout au long du rendez-vous \n📝  Pour participer\, il vous suffit de vous inscrire sur le lien Eventbrite !
URL:https://face-maineetloire.com/event/lunchwork-de-rentree-2025/
LOCATION:FACE Maine-et-Loire\, 34 rue des Noyers\, Angers\, Maine-et-Loire\, 49000\, France
CATEGORIES:Entreprises,Vie du Club
ATTACH;FMTTYPE=image/jpeg:https://face-maineetloire.com/wp-content/uploads/2025/06/Lunchwork-de-rentree-2025-1.jpg
ORGANIZER;CN="Les entreprises s'Engagent en Maine-et-Loire":MAILTO:lesentreprisessengagent.49@gmail.com
GEO:47.4651806;-0.5330666
X-APPLE-STRUCTURED-LOCATION;VALUE=URI;X-ADDRESS=FACE Maine-et-Loire 34 rue des Noyers Angers Maine-et-Loire 49000 France;X-APPLE-RADIUS=500;X-TITLE=34 rue des Noyers:geo:-0.5330666,47.4651806
END:VEVENT
BEGIN:VEVENT
DTSTART;TZID=Europe/Paris:20250923T140000
DTEND;TZID=Europe/Paris:20250923T163000
DTSTAMP:20260419T225812
CREATED:20250722T121825Z
LAST-MODIFIED:20250722T122710Z
UID:10000163-1758636000-1758645000@face-maineetloire.com
SUMMARY:FACEMPLOI : Atelier collectif
DESCRIPTION:Pour en savoir plus sur le parcours d’accompagnement sur mesure de FACEMPLOI :\nL’objectif : de pulser le parcours d’emploi de bénéficiaires et permettre l’insertion professionnelle du public. \nLa démarche : l’ADN de FACE est la mise en lien entre un public et le monde de l’entreprise. Ce seront des professionnel.le.s d’entreprise qui animent les ateliers thématiques. \nLe public : ces ateliers sont destinés à des bénéficiaires en parcours d’emploi (habitants de QPV\, femmes\, jeunes de l’ASE\, etc.) qui sont accompagnés par les partenaires de l’insertion du territoire (ex : MS’Dom\, Resto Troc\, Atlas\, Centre de formation AFTRAL …). \n  \nAu programme :\n📆 Mardi 23 septembre 2025\n⏰ De 14h00 à 16h30\n📍 A Temporis Angers Nord\, 82 Avenue des Hauts de Saint-Aubin\, 49000 Angers \n💡 Atelier « Codes de l’entreprise et savoir-être »\n🔎 Animé par l’équipe de Temporis\n✅ Atelier complet ! \n  \nVous avez une question sur le parcours ?\nVeuillez contacter l’équipe Emploi :\nJulie Rondier | jrondier@face-maineetloire.com \nCécilia Sourice | csourice@face-maineetloire.com
URL:https://face-maineetloire.com/event/facemploi-atelier-collectif/
LOCATION:Temporis Angers Nord\, 82 Avenue des Hauts de Saint-Aubin\, Angers\, Sélectionner un État :\, 49000\, France
CATEGORIES:Emploi
ATTACH;FMTTYPE=image/jpeg:https://face-maineetloire.com/wp-content/uploads/2025/07/Ateliers-codes-de-lentreprise-et-savoir-etre.jpg
GEO:47.4923519;-0.561403
X-APPLE-STRUCTURED-LOCATION;VALUE=URI;X-ADDRESS=Temporis Angers Nord 82 Avenue des Hauts de Saint-Aubin Angers Sélectionner un État : 49000 France;X-APPLE-RADIUS=500;X-TITLE=82 Avenue des Hauts de Saint-Aubin:geo:-0.561403,47.4923519
END:VEVENT
BEGIN:VEVENT
DTSTART;TZID=Europe/Paris:20250930T090000
DTEND;TZID=Europe/Paris:20250930T170000
DTSTAMP:20260419T225812
CREATED:20250722T123556Z
LAST-MODIFIED:20250722T123556Z
UID:10000164-1759222800-1759251600@face-maineetloire.com
SUMMARY:FACEMPLOI : Atelier collectif
DESCRIPTION:Pour en savoir plus sur le parcours d’accompagnement sur mesure de FACEMPLOI :\nL’objectif : de pulser le parcours d’emploi de bénéficiaires et permettre l’insertion professionnelle du public. \nLa démarche : l’ADN de FACE est la mise en lien entre un public et le monde de l’entreprise. Ce seront des professionnel.le.s d’entreprise qui animent les ateliers thématiques. \nLe public : ces ateliers sont destinés à des bénéficiaires en parcours d’emploi (habitants de QPV\, femmes\, jeunes de l’ASE\, etc.) qui sont accompagnés par les partenaires de l’insertion du territoire (ex : MS’Dom\, Resto Troc\, Atlas\, Centre de formation AFTRAL …). \n  \nAu programme :\n📆 Mardi 30 septembre 2025\n⏰ De 9h00 à 17h00\n📍 A l’UIMM/Fab Academy (sur le site de la CCI de Maine-et-Loire)\, 132 avenue de Lattre de Tassigny\, 49000 Angers \n💡 Atelier « Codes de l’entreprise » \n\nPosture\nCodes\nC’est quoi les métiers de l’industrie ?\n\n🔎 Animé par l’équipe de l’UIMM et de la FAB Academy\n✅ Atelier complet ! \n  \nVous avez une question sur le parcours ?\nVeuillez contacter l’équipe Emploi : \nJulie Rondier | jrondier@face-maineetloire.com \nCécilia Sourice | csourice@face-maineetloire.com
URL:https://face-maineetloire.com/event/facemploi-atelier-collectif-2/
LOCATION:UIMM\, 132 avenue de Lattre de Tassigny\, Angers\, Sélectionner un État :\, 49000\, France
CATEGORIES:Emploi
ATTACH;FMTTYPE=image/jpeg:https://face-maineetloire.com/wp-content/uploads/2025/07/Ateliers-UIMM.jpg
GEO:47.4486805;-0.5389744
X-APPLE-STRUCTURED-LOCATION;VALUE=URI;X-ADDRESS=UIMM 132 avenue de Lattre de Tassigny Angers Sélectionner un État : 49000 France;X-APPLE-RADIUS=500;X-TITLE=132 avenue de Lattre de Tassigny:geo:-0.5389744,47.4486805
END:VEVENT
END:VCALENDAR