BEGIN:VCALENDAR
VERSION:2.0
PRODID:-//FACE Maine et Loire - ECPv6.15.17.1//NONSGML v1.0//EN
CALSCALE:GREGORIAN
METHOD:PUBLISH
X-WR-CALNAME:FACE Maine et Loire
X-ORIGINAL-URL:https://face-maineetloire.com
X-WR-CALDESC:Évènements pour FACE Maine et Loire
REFRESH-INTERVAL;VALUE=DURATION:PT1H
X-Robots-Tag:noindex
X-PUBLISHED-TTL:PT1H
BEGIN:VTIMEZONE
TZID:Europe/Paris
BEGIN:DAYLIGHT
TZOFFSETFROM:+0100
TZOFFSETTO:+0200
TZNAME:CEST
DTSTART:20230326T010000
END:DAYLIGHT
BEGIN:STANDARD
TZOFFSETFROM:+0200
TZOFFSETTO:+0100
TZNAME:CET
DTSTART:20231029T010000
END:STANDARD
BEGIN:DAYLIGHT
TZOFFSETFROM:+0100
TZOFFSETTO:+0200
TZNAME:CEST
DTSTART:20240331T010000
END:DAYLIGHT
BEGIN:STANDARD
TZOFFSETFROM:+0200
TZOFFSETTO:+0100
TZNAME:CET
DTSTART:20241027T010000
END:STANDARD
BEGIN:DAYLIGHT
TZOFFSETFROM:+0100
TZOFFSETTO:+0200
TZNAME:CEST
DTSTART:20250330T010000
END:DAYLIGHT
BEGIN:STANDARD
TZOFFSETFROM:+0200
TZOFFSETTO:+0100
TZNAME:CET
DTSTART:20251026T010000
END:STANDARD
END:VTIMEZONE
BEGIN:VEVENT
DTSTART;TZID=Europe/Paris:20240411T083000
DTEND;TZID=Europe/Paris:20240411T140000
DTSTAMP:20260420T154232
CREATED:20240116T122821Z
LAST-MODIFIED:20240328T145309Z
UID:10000100-1712824200-1712844000@face-maineetloire.com
SUMMARY:2ème édition - Train de l'Emploi et de la Mobilité
DESCRIPTION:🆙  SAVE THE DATE : Embarquez vers l’emploi pour la deuxième édition du Train de l’Emploi et de la Mobilité !\n⏰ Jeudi 11 avril 2024\n📍 Départ : Pôle Régional de Formation (PLUS)\, 80 Rue des Îles\, 49400 Saumur + Gare de Saumur\n🏁 Arrivée : Gare d’Angers Saint Laud + Université Catholique de l’Ouest\n🕑 De 8h30 à 14h00 \n\n💡Programme du voyage :\nÉtape 1️⃣ : Lancement de la journée autour d’un café et d’une activité ludique\,\nÉtape 2️⃣ : Rencontres avec les entreprises à bord du train\,\nÉtape 3️⃣ : Découverte de solutions mobilité et échanges avec les entreprises. \n📌 Objectifs :\n🎯 Promouvoir la mobilité et accompagner les personnes à la recherche d’un emploi dans leurs déplacements\n🎯 Favoriser le contact avec le monde de l’entreprise et la connaissance des opportunités du territoires \n  \n🗨️ Échangez avec : INHNI\, CNPH PIVERDIERE\, FFB Maine et Loire\, VEGEPOLYS VALLEY\, Restaurants La Boucherie\, SDEL ENERGIS ANGERS SDEL ENERGIS SAUMUR\, ELIORESO- ANEFA 49\, RESO Val de Loire\, AUDOUARD Voyages\, SOFTEC Formation Professionnelle\, SAUR\, AGRIVAL GE\, Cycl’O de Loire\, Vilmorin-Mikado\, SOMELAC\, Ouihelp\, Transdev Pays de la Loire\, AFPA\, Groupe actual ERGOS Groupe ACTUAL\, FORVAL GE\, VP Conseil & Patrimoine\, Mobil’Ethique\, Le Mercato de l’Emploi\, AFTRAL\, Société TRAHAY & France Travail\n🤝 Venez rencontrer : Ogalo\, Aléop\, SOMELAC\, KR MOBILITY\, AFODIL\, Transdev Pays de la Loire\, SNCF Voyageurs\, Décathlon  & Transport Voisins \nVous êtes une entreprise intéressée par notre événement et souhaitez être présente ?\n📝 N’hésitez pas à contacter Julie Rondier : jr.faceangersloire@gmail.com \n  \nMerci à nos partenaires TER Pays de la Loire (SNCF Voyageurs)\, la Région des Pays de la Loire\, le CLEFOP Sud et le Pacte de Solidarité qui accompagnent FACE Maine-et-Loire pour le soutien à l’organisation de cet événement 👏 \n\n🔎 Et pour voir comment était le voyage Cholet/Angers en 2023 ?\nCliquez ici ▶️ https://urlz.fr/pdZ2 \n  \n🚝 Vous souhaitez découvrir cet évènement ou renouveler l’expérience ?\nN’hésitez pas à vous inscrire par ici ⤵️\nCe formulaire est fait pour vous
URL:https://face-maineetloire.com/event/2eme-edition-train-de-lemploi-et-de-la-mobilite/
CATEGORIES:Emploi,Accès aux droits
ATTACH;FMTTYPE=image/jpeg:https://face-maineetloire.com/wp-content/uploads/2024/01/TEM-2024-post.jpg
END:VEVENT
END:VCALENDAR