BEGIN:VCALENDAR
VERSION:2.0
PRODID:-//FACE Maine et Loire - ECPv6.15.17.1//NONSGML v1.0//EN
CALSCALE:GREGORIAN
METHOD:PUBLISH
X-ORIGINAL-URL:https://face-maineetloire.com
X-WR-CALDESC:Évènements pour FACE Maine et Loire
REFRESH-INTERVAL;VALUE=DURATION:PT1H
X-Robots-Tag:noindex
X-PUBLISHED-TTL:PT1H
BEGIN:VTIMEZONE
TZID:Europe/Paris
BEGIN:DAYLIGHT
TZOFFSETFROM:+0100
TZOFFSETTO:+0200
TZNAME:CEST
DTSTART:20200329T010000
END:DAYLIGHT
BEGIN:STANDARD
TZOFFSETFROM:+0200
TZOFFSETTO:+0100
TZNAME:CET
DTSTART:20201025T010000
END:STANDARD
BEGIN:DAYLIGHT
TZOFFSETFROM:+0100
TZOFFSETTO:+0200
TZNAME:CEST
DTSTART:20210328T010000
END:DAYLIGHT
BEGIN:STANDARD
TZOFFSETFROM:+0200
TZOFFSETTO:+0100
TZNAME:CET
DTSTART:20211031T010000
END:STANDARD
BEGIN:DAYLIGHT
TZOFFSETFROM:+0100
TZOFFSETTO:+0200
TZNAME:CEST
DTSTART:20220327T010000
END:DAYLIGHT
BEGIN:STANDARD
TZOFFSETFROM:+0200
TZOFFSETTO:+0100
TZNAME:CET
DTSTART:20221030T010000
END:STANDARD
BEGIN:DAYLIGHT
TZOFFSETFROM:+0100
TZOFFSETTO:+0200
TZNAME:CEST
DTSTART:20230326T010000
END:DAYLIGHT
BEGIN:STANDARD
TZOFFSETFROM:+0200
TZOFFSETTO:+0100
TZNAME:CET
DTSTART:20231029T010000
END:STANDARD
END:VTIMEZONE
BEGIN:VEVENT
DTSTART;TZID=Europe/Paris:20210801T000000
DTEND;TZID=Europe/Paris:20211231T235959
DTSTAMP:20260423T155711
CREATED:20210802T104624Z
LAST-MODIFIED:20210802T104624Z
UID:10000041-1627776000-1640995199@face-maineetloire.com
SUMMARY:Regards d'Angers et d'Ailleurs : exposition en ligne
DESCRIPTION:Née du regard porté par un groupe de migrant·e·s sur notre ville\, l’exposition Regards d’Angers et d’Ailleurs vous invite au cœur de la diversité.\nEn tendant l’oreille\, vous entendrez ces hommes et ces femmes vous conter leur parcours jusqu’en Anjou.\nEntre deux portraits\, ils·elles vous feront (re)découvrir votre territoire et vous partageront leurs rêves d’intégration. \nRendez-vous sur le lien ci-dessous pour en apprendre plus sur ce projet et pour débuter votre visite. \n> Découvrir l’exposition Regards d’Angers et d’Ailleurs < \nNous vous souhaitons un bon moment ! \nCette exposition a été réalisée avec le soutien et la participation de Mécène&Loire\, de l’EEGP et de la DDETS
URL:https://face-maineetloire.com/event/regards-dangers-et-dailleurs-exposition-en-ligne/
LOCATION:En ligne
CATEGORIES:En ligne
ATTACH;FMTTYPE=image/png:https://face-maineetloire.com/wp-content/uploads/2021/07/Regards-angers-ailleurs-exposition-1.png
END:VEVENT
BEGIN:VEVENT
DTSTART;TZID=Europe/Paris:20211018T000000
DTEND;TZID=Europe/Paris:20220616T235959
DTSTAMP:20260423T155711
CREATED:20210913T084455Z
LAST-MODIFIED:20210913T084455Z
UID:10000042-1634515200-1655423999@face-maineetloire.com
SUMMARY:Rencontre témoignage métier en classe
DESCRIPTION:Venez à la rencontre des collégien·ne·s de Maine et Loire pour partager votre métier\, votre parcours et votre expérience en classe ! Objectifs : \n\nélargir les choix professionnels des jeunes\npromouvoir la mixité des métiers\, déconstruire les stéréotypes de genre\nfaire découvrir l’entrepreneuriat\nvaloriser l’apprentissage et l’alternance\nfamiliariser les élèves avec les codes de l’entreprise\n\nComment se déroulent les interventions ? Ponctuées d’activités ludiques (quiz\, qui est-ce géant)\, ces rencontres sont basées sur l’échange : assis en cercle\, on discute avec sincérité et bienveillance \n\nCalendrier\nDe septembre 2022 à juin 2023 : dates à venir \nDe nouvelles dates sont ajoutées au fil de l’année scolaire\, n’hésitez pas à consulter ce lien régulièrement ! \n\nInformations auprès de Bettie : bd.faceangersloire@gmail.com ou 07.50.65.90.93
URL:https://face-maineetloire.com/event/egalite-mixite-interventions-en-classe-3/
LOCATION:Angers\, Angers\, Maine-et-Loire\, France
CATEGORIES:Orientation & Formation
ATTACH;FMTTYPE=image/png:https://face-maineetloire.com/wp-content/uploads/2021/09/Atelier-OF-2.png
GEO:47.4711616;-0.5518257
END:VEVENT
BEGIN:VEVENT
DTSTART;TZID=Europe/Paris:20211116T180000
DTEND;TZID=Europe/Paris:20211116T213000
DTSTAMP:20260423T155711
CREATED:20211007T131030Z
LAST-MODIFIED:20211007T131030Z
UID:10000043-1637085600-1637098200@face-maineetloire.com
SUMMARY:Rendez-vous RSE : L'entreprise contributive
DESCRIPTION:Les Dirigeants Responsables de l’Ouest\, FACE Angers Loire et le MEDEF Anjou (avec la contribution du MEDEF Pays de la Loire) sont heureux de vous convier à cette soirée résolument tournée vers l’avenir. L’occasion pour vous d’échanger et de débattre entre pairs et avec des invité·e·s engagé·e·s à propos de l’entreprise contributive. \n\n\n\n  \n\n\n\n\n\n\n\n\n\n\n\n  \n\n\n\nInformations et inscriptions en cliquant ici. \n\n\n\n 
URL:https://face-maineetloire.com/event/rendez-vous-rse-lentreprise-contributive/
LOCATION:Angers Iceparc\, Angers
CATEGORIES:Entreprises
ATTACH;FMTTYPE=image/png:https://face-maineetloire.com/wp-content/uploads/2021/10/Entete-Eventbrite.png
END:VEVENT
END:VCALENDAR