BEGIN:VCALENDAR
VERSION:2.0
PRODID:-//FACE Maine et Loire - ECPv6.15.17.1//NONSGML v1.0//EN
CALSCALE:GREGORIAN
METHOD:PUBLISH
X-ORIGINAL-URL:https://face-maineetloire.com
X-WR-CALDESC:Évènements pour FACE Maine et Loire
REFRESH-INTERVAL;VALUE=DURATION:PT1H
X-Robots-Tag:noindex
X-PUBLISHED-TTL:PT1H
BEGIN:VTIMEZONE
TZID:Europe/Paris
BEGIN:DAYLIGHT
TZOFFSETFROM:+0100
TZOFFSETTO:+0200
TZNAME:CEST
DTSTART:20200329T010000
END:DAYLIGHT
BEGIN:STANDARD
TZOFFSETFROM:+0200
TZOFFSETTO:+0100
TZNAME:CET
DTSTART:20201025T010000
END:STANDARD
BEGIN:DAYLIGHT
TZOFFSETFROM:+0100
TZOFFSETTO:+0200
TZNAME:CEST
DTSTART:20210328T010000
END:DAYLIGHT
BEGIN:STANDARD
TZOFFSETFROM:+0200
TZOFFSETTO:+0100
TZNAME:CET
DTSTART:20211031T010000
END:STANDARD
BEGIN:DAYLIGHT
TZOFFSETFROM:+0100
TZOFFSETTO:+0200
TZNAME:CEST
DTSTART:20220327T010000
END:DAYLIGHT
BEGIN:STANDARD
TZOFFSETFROM:+0200
TZOFFSETTO:+0100
TZNAME:CET
DTSTART:20221030T010000
END:STANDARD
BEGIN:DAYLIGHT
TZOFFSETFROM:+0100
TZOFFSETTO:+0200
TZNAME:CEST
DTSTART:20230326T010000
END:DAYLIGHT
BEGIN:STANDARD
TZOFFSETFROM:+0200
TZOFFSETTO:+0100
TZNAME:CET
DTSTART:20231029T010000
END:STANDARD
END:VTIMEZONE
BEGIN:VEVENT
DTSTART;TZID=Europe/Paris:20211018T000000
DTEND;TZID=Europe/Paris:20220616T235959
DTSTAMP:20260421T064548
CREATED:20210913T084455Z
LAST-MODIFIED:20210913T084455Z
UID:10000042-1634515200-1655423999@face-maineetloire.com
SUMMARY:Rencontre témoignage métier en classe
DESCRIPTION:Venez à la rencontre des collégien·ne·s de Maine et Loire pour partager votre métier\, votre parcours et votre expérience en classe ! Objectifs : \n\nélargir les choix professionnels des jeunes\npromouvoir la mixité des métiers\, déconstruire les stéréotypes de genre\nfaire découvrir l’entrepreneuriat\nvaloriser l’apprentissage et l’alternance\nfamiliariser les élèves avec les codes de l’entreprise\n\nComment se déroulent les interventions ? Ponctuées d’activités ludiques (quiz\, qui est-ce géant)\, ces rencontres sont basées sur l’échange : assis en cercle\, on discute avec sincérité et bienveillance \n\nCalendrier\nDe septembre 2022 à juin 2023 : dates à venir \nDe nouvelles dates sont ajoutées au fil de l’année scolaire\, n’hésitez pas à consulter ce lien régulièrement ! \n\nInformations auprès de Bettie : bd.faceangersloire@gmail.com ou 07.50.65.90.93
URL:https://face-maineetloire.com/event/egalite-mixite-interventions-en-classe-3/
LOCATION:Angers\, Angers\, Maine-et-Loire\, France
CATEGORIES:Orientation & Formation
ATTACH;FMTTYPE=image/png:https://face-maineetloire.com/wp-content/uploads/2021/09/Atelier-OF-2.png
GEO:47.4711616;-0.5518257
END:VEVENT
BEGIN:VEVENT
DTSTART;TZID=Europe/Paris:20220602T110000
DTEND;TZID=Europe/Paris:20220602T150000
DTSTAMP:20260421T064548
CREATED:20220517T135923Z
LAST-MODIFIED:20220517T135923Z
UID:10000052-1654167600-1654182000@face-maineetloire.com
SUMMARY:Portes ouvertes de FACE Angers Loire
DESCRIPTION:FACE Angers Loire vous ouvre ses portes le 2 juin\, venez à notre rencontre ! \nDeux créneaux : \n\n11h00-12h00\n14h00-15h00\n\nN’hésitez pas à nous faire part de votre venue en nous envoyant un message ou un SMS à : \n\nbd.faceangersloire@gmail.com\n07.50.65.90.93\n\n 
URL:https://face-maineetloire.com/event/portes-ouvertes-de-face-angers-loire/
LOCATION:FACE Angers Loire (Bureaux)\, 34 rue des Noyers\, Angers\, 49000\, France
ATTACH;FMTTYPE=image/png:https://face-maineetloire.com/wp-content/uploads/2022/05/PortesOuvertes-020622.png
GEO:47.4659207;-0.5339048
X-APPLE-STRUCTURED-LOCATION;VALUE=URI;X-ADDRESS=FACE Angers Loire (Bureaux) 34 rue des Noyers Angers 49000 France;X-APPLE-RADIUS=500;X-TITLE=34 rue des Noyers:geo:-0.5339048,47.4659207
END:VEVENT
BEGIN:VEVENT
DTSTART;TZID=Europe/Paris:20220602T150000
DTEND;TZID=Europe/Paris:20220602T200000
DTSTAMP:20260421T064548
CREATED:20220513T100155Z
LAST-MODIFIED:20220513T100155Z
UID:10000051-1654182000-1654200000@face-maineetloire.com
SUMMARY:Forum de l'évolution professionnelle
DESCRIPTION:Venez rencontrer les équipes EMPLOI de FACE Angers Loire pendant le Forum de l’évolution professionnelle au Centre Athlétis des Ponts-de-Cé le 2 juin. \nVous serons présents sur le pôle « Je définis mon projet » pour vous en dire plus sur nos accompagnements et plus particulièrement sur l’action FACEMPLOI. \nPour vous inscrire\, rendez-vous sur ce lien.
URL:https://face-maineetloire.com/event/forum-de-levolution-professionnelle/
CATEGORIES:Emploi
ATTACH;FMTTYPE=image/jpeg:https://face-maineetloire.com/wp-content/uploads/2022/05/1.jpg
END:VEVENT
BEGIN:VEVENT
DTSTART;TZID=Europe/Paris:20220609T120000
DTEND;TZID=Europe/Paris:20220609T140000
DTSTAMP:20260421T064548
CREATED:20220427T125137Z
LAST-MODIFIED:20220427T125137Z
UID:10000050-1654776000-1654783200@face-maineetloire.com
SUMMARY:Assemblée Générale
DESCRIPTION:Un moment pour dresser le bilan des actions de l’année passée\, vous présenter celles à venir et partager un temps convivial ensemble\n\n\n\n\nInscription obligatoire en cliquant ici\n\n\nÀ propos de cet évènement\n\n\nParticipez le temps d’un midi à l’Assemblée Générale du Club FACE Angers Loire. \nUn moment de bilan et perspectives sur le chemin parcouru jusqu’à aujourd’hui pour notre association\, des nouveaux projets\, futurs horizons et enjeux en lien avec nos valeurs et nos bénéficiaires\, de l’enrichissement au travers des rencontres avec les différents partenaires\, du partage\, du partage\, du partage ! \nNous vous attendons avec plaisir pour ce rendez-vous au cours duquel nous grignoterons aussi ensemble\, sous une météo qui sera\, nous l’espérons\, presque estivale ! \n\n\nProgramme\n\n\nBilan et perspectives \n\nRapport moral du Président et bilan d’activité 2021\nBilan financier\, affectation du résultat\nRappel du montant de la cotisation annuelle\nActions 2022 et budget prévisionnel associé\nHorizon 2023\nRenouvellement et nomination des administrateurs\nÉlection des membres du bureau\n\nChallenge en équipe \nPartage et rencontres \n\nInscription obligatoire en cliquant ici
URL:https://face-maineetloire.com/event/assemblee-generale-4/
LOCATION:FACE Angers Loire (Bureaux)\, 34 rue des Noyers\, Angers\, 49000\, France
ATTACH;FMTTYPE=image/png:https://face-maineetloire.com/wp-content/uploads/2022/04/Eventbrite-AG-2022.png
GEO:47.4659207;-0.5339048
X-APPLE-STRUCTURED-LOCATION;VALUE=URI;X-ADDRESS=FACE Angers Loire (Bureaux) 34 rue des Noyers Angers 49000 France;X-APPLE-RADIUS=500;X-TITLE=34 rue des Noyers:geo:-0.5339048,47.4659207
END:VEVENT
END:VCALENDAR