BEGIN:VCALENDAR
VERSION:2.0
PRODID:-//FACE Maine et Loire - ECPv6.15.17.1//NONSGML v1.0//EN
CALSCALE:GREGORIAN
METHOD:PUBLISH
X-WR-CALNAME:FACE Maine et Loire
X-ORIGINAL-URL:https://face-maineetloire.com
X-WR-CALDESC:Évènements pour FACE Maine et Loire
REFRESH-INTERVAL;VALUE=DURATION:PT1H
X-Robots-Tag:noindex
X-PUBLISHED-TTL:PT1H
BEGIN:VTIMEZONE
TZID:Europe/Paris
BEGIN:DAYLIGHT
TZOFFSETFROM:+0100
TZOFFSETTO:+0200
TZNAME:CEST
DTSTART:20210328T010000
END:DAYLIGHT
BEGIN:STANDARD
TZOFFSETFROM:+0200
TZOFFSETTO:+0100
TZNAME:CET
DTSTART:20211031T010000
END:STANDARD
BEGIN:DAYLIGHT
TZOFFSETFROM:+0100
TZOFFSETTO:+0200
TZNAME:CEST
DTSTART:20220327T010000
END:DAYLIGHT
BEGIN:STANDARD
TZOFFSETFROM:+0200
TZOFFSETTO:+0100
TZNAME:CET
DTSTART:20221030T010000
END:STANDARD
BEGIN:DAYLIGHT
TZOFFSETFROM:+0100
TZOFFSETTO:+0200
TZNAME:CEST
DTSTART:20230326T010000
END:DAYLIGHT
BEGIN:STANDARD
TZOFFSETFROM:+0200
TZOFFSETTO:+0100
TZNAME:CET
DTSTART:20231029T010000
END:STANDARD
END:VTIMEZONE
BEGIN:VEVENT
DTSTART;TZID=Europe/Paris:20221011T090000
DTEND;TZID=Europe/Paris:20221011T120000
DTSTAMP:20260420T234058
CREATED:20220715T101557Z
LAST-MODIFIED:20220715T101557Z
UID:10000058-1665478800-1665489600@face-maineetloire.com
SUMMARY:Atelier numérique
DESCRIPTION:Des ateliers numériques pour : \n\nDécouvrir les différents outils numériques et se familiariser avec eux\nEffectuer des démarches en ligne en toute autonomie (affranchir un colis\, transférer de l’argent\, faire une procuration …)\nÊtre plus à l’aise avec les différents usages du numérique (effectuer des démarches administratives\, rechercher un emploi\, utiliser sa banque en ligne …)\n\nPas de niveau requis. Julie\, chargée de médiation numérique\, s’adapte aux besoins de chacun·e pendant les ateliers. \n  \nPour qui ? Pour toutes les personnes qui souhaiteraient être accompagnées pour être plus à l’aise avec les outils numériques. Comment s’inscrire ? En allant à la rencontre de Julie pendant ses permanences à la Poste du Ralliement (le lundi) ou en la contactant à jr.faceangersloire@gmail.com ou au 07.84.83.90.28 \n  \nEn partenariat avec La Poste
URL:https://face-maineetloire.com/event/atelier-numerique/2022-10-11/
LOCATION:FACE Angers Loire (Bureaux)\, 34 rue des Noyers\, Angers\, 49000\, France
CATEGORIES:Accès aux droits
ATTACH;FMTTYPE=image/png:https://face-maineetloire.com/wp-content/uploads/2021/05/Acces-aux-droits-Atelier.png
GEO:47.4659207;-0.5339048
X-APPLE-STRUCTURED-LOCATION;VALUE=URI;X-ADDRESS=FACE Angers Loire (Bureaux) 34 rue des Noyers Angers 49000 France;X-APPLE-RADIUS=500;X-TITLE=34 rue des Noyers:geo:-0.5339048,47.4659207
END:VEVENT
BEGIN:VEVENT
DTSTART;TZID=Europe/Paris:20221011T090000
DTEND;TZID=Europe/Paris:20221011T120000
DTSTAMP:20260420T234058
CREATED:20220715T101557Z
LAST-MODIFIED:20220715T101557Z
UID:10000090-1665478800-1665489600@face-maineetloire.com
SUMMARY:Atelier numérique
DESCRIPTION:Des ateliers numériques pour : \n\nDécouvrir les différents outils numériques et se familiariser avec eux\nEffectuer des démarches en ligne en toute autonomie (affranchir un colis\, transférer de l’argent\, faire une procuration …)\nÊtre plus à l’aise avec les différents usages du numérique (effectuer des démarches administratives\, rechercher un emploi\, utiliser sa banque en ligne …)\n\nPas de niveau requis. Julie\, chargée de médiation numérique\, s’adapte aux besoins de chacun·e pendant les ateliers. \n  \nPour qui ? Pour toutes les personnes qui souhaiteraient être accompagnées pour être plus à l’aise avec les outils numériques. Comment s’inscrire ? En allant à la rencontre de Julie pendant ses permanences à la Poste du Ralliement (le lundi) ou en la contactant à jr.faceangersloire@gmail.com ou au 07.84.83.90.28 \n  \nEn partenariat avec La Poste
URL:https://face-maineetloire.com/event/atelier-numerique/2022-10-11/
LOCATION:FACE Angers Loire (Bureaux)\, 34 rue des Noyers\, Angers\, 49000\, France
CATEGORIES:Accès aux droits
ATTACH;FMTTYPE=image/png:https://face-maineetloire.com/wp-content/uploads/2021/05/Acces-aux-droits-Atelier.png
GEO:47.4659207;-0.5339048
X-APPLE-STRUCTURED-LOCATION;VALUE=URI;X-ADDRESS=FACE Angers Loire (Bureaux) 34 rue des Noyers Angers 49000 France;X-APPLE-RADIUS=500;X-TITLE=34 rue des Noyers:geo:-0.5339048,47.4659207
END:VEVENT
BEGIN:VEVENT
DTSTART;TZID=Europe/Paris:20221014T080000
DTEND;TZID=Europe/Paris:20221014T093000
DTSTAMP:20260420T234058
CREATED:20220616T075535Z
LAST-MODIFIED:20220616T075535Z
UID:10000053-1665734400-1665739800@face-maineetloire.com
SUMMARY:Petit-déjeuner : Les pitchs qui nourrissent votre RSE
DESCRIPTION:5 acteurs locaux pitchent leur(s) solution(s) pour aider les entreprises dans leur impact sociétal et environnemental sur le territoire \nLieu : SOFTEC\, Avrillé \nÀ propos de cet évènement\n\nChaque pitcheur dispose de 8 minutes pour présenter son service aux entreprises présentes. Cette solution doit être en mesure d’aider les entreprises dans leur impact sociétal et environnemental local.\nAprès ces 8 minutes\, chaque entreprise peut faire le choix de poursuivre les échanges autour de douceurs et de boissons chaudes.\n\nProgramme de l’événement\n\nBonjour : Le mot d’accueil de FACE Angers Loire et présentation des actualités du Club\nPitchs : Les acteurs locaux vous présentent leur(s) solution(s) pour vous aider dans votre impact sociétal et environnemental\nÉchanges autour d’un petit-déjeuner\n\nLes inscriptions sont ouvertes ! Rendez-vous sur ce lien
URL:https://face-maineetloire.com/event/pitch-rse-2/
CATEGORIES:Entreprises
ATTACH;FMTTYPE=image/png:https://face-maineetloire.com/wp-content/uploads/2022/03/Pitchs-RSE-Generique.png
END:VEVENT
BEGIN:VEVENT
DTSTART;TZID=Europe/Paris:20221020T140000
DTEND;TZID=Europe/Paris:20221020T170000
DTSTAMP:20260420T234058
CREATED:20220218T145516Z
LAST-MODIFIED:20220218T145516Z
UID:10000046-1666274400-1666285200@face-maineetloire.com
SUMMARY:Permanence FACE Angers Loire
DESCRIPTION:Vous êtes à la recherche d’un emploi ou d’une formation ?  \nVous souhaitez construire votre projet professionnel en lien direct avec les entreprises du territoire ?  \nVenez rencontrer l’équipe de FACE Angers Loire pour un temps d’échanges ! \n\nQuand ? Le 20 octobre 2022\nOù ? Dans les locaux de la Soclova\, 7-9 Boulevard Auguste Allonneau à Angers (à côté de la loge du gardien)\nA quelle heure ? Entre 14h et 17h (venez quand vous voulez !)
URL:https://face-maineetloire.com/event/permanence-face-angers-loire/
CATEGORIES:Emploi
ATTACH;FMTTYPE=image/png:https://face-maineetloire.com/wp-content/uploads/2022/02/Emploi-Permanences.png
END:VEVENT
BEGIN:VEVENT
DTSTART;TZID=Europe/Paris:20221024T090000
DTEND;TZID=Europe/Paris:20221028T130000
DTSTAMP:20260420T234058
CREATED:20220629T071319Z
LAST-MODIFIED:20220629T071319Z
UID:10000056-1666602000-1666962000@face-maineetloire.com
SUMMARY:Wi-Filles Autumn Camp
DESCRIPTION:Le programme de la semaine\nLe lieu précis des activités vous sera communiqué après l’inscription.  \n\nPlongée dans une école d’ingénieur·e·s\nPatrimoine & numérique\nLes dessous de la création de contenus\nInitiation à la programmation\nRencontres avec des étudiants et étudiantes\nVisite d’entreprises du numérique\nAteliers pratiques\n\nHoraires\n\nDébut de la journée : 9h00 (rdv au point de départ des activités qui reste le même chaque jour)\nFin de la journée : 16h30 (retour au point de départ)\n\nInformations complémentaires\n\nPour les filles de 13 à 15 ans\nA Angers\nSur inscription\, nombre de places limité\nSemaine encadrée par 2 chargées de mission de FACE Angers Loire : Bettie et Aurélie\nGratuit (seul le déjeuner du midi doit être fourni\, transport pris en charge)\nEn bonus : 🍪\n\nPourquoi Wi-Filles est réservé aux filles ?\nDans les métiers du numérique\, on compte nettement plus d’hommes que de femmes. Elles sont 30% à travailler dans ce secteur d’activité. Dans les écoles qui forment aux métiers du numérique\, les filles sont aussi largement moins nombreuses que les garçons. Wi-Filles a été créé pour faire découvrir les opportunités dont regorge ce secteur aux collégiennes et aux lycéennes. Du plus technique au créatif en passant par l’innovant\, il existe tellement de métiers dans le numérique et la tech qu’il y en a pour tous les goûts ! \nPendant la semaine\, les participantes pourront rencontrer des personnes qui travaillent dans le numérique\, des étudiant·e·s mais aussi des hommes et des femmes qui utilisent le numérique au quotidien et auxquels on ne pense pas forcément ! Des ateliers pratiques sont organisés afin d’apprendre en faisant et de se challenger (il parait que l’informatique ne fonctionne jamais du premier coup mais ce n’est pas grave\, n’est-ce pas ? 😉 ). \nVous pouvez aller voir les activités réalisées par les anciennes Wi-Filles sur notre compte Instagram : @wifilles49 \nPour vous inscrire\, cliquez-ici. \n  \nDes questions ? Contactez Bettie à bd.faceangersloire@gmail.com\, au 07.50.65.90.93 ou directement sur Instagram @wifilles49 \n  \nWi-Filles Autumn Camp est soutenu par la Fondation Baker Tilly & Oratio\, Enedis Pays de la Loire et la DRDFE
URL:https://face-maineetloire.com/event/wfac/
CATEGORIES:Orientation & Formation
ATTACH;FMTTYPE=image/png:https://face-maineetloire.com/wp-content/uploads/2022/06/WFAC-Agenda.png
END:VEVENT
END:VCALENDAR