BEGIN:VCALENDAR
VERSION:2.0
PRODID:-//FACE Maine et Loire - ECPv6.15.17.1//NONSGML v1.0//EN
CALSCALE:GREGORIAN
METHOD:PUBLISH
X-ORIGINAL-URL:https://face-maineetloire.com
X-WR-CALDESC:Évènements pour FACE Maine et Loire
REFRESH-INTERVAL;VALUE=DURATION:PT1H
X-Robots-Tag:noindex
X-PUBLISHED-TTL:PT1H
BEGIN:VTIMEZONE
TZID:Europe/Paris
BEGIN:DAYLIGHT
TZOFFSETFROM:+0100
TZOFFSETTO:+0200
TZNAME:CEST
DTSTART:20210328T010000
END:DAYLIGHT
BEGIN:STANDARD
TZOFFSETFROM:+0200
TZOFFSETTO:+0100
TZNAME:CET
DTSTART:20211031T010000
END:STANDARD
BEGIN:DAYLIGHT
TZOFFSETFROM:+0100
TZOFFSETTO:+0200
TZNAME:CEST
DTSTART:20220327T010000
END:DAYLIGHT
BEGIN:STANDARD
TZOFFSETFROM:+0200
TZOFFSETTO:+0100
TZNAME:CET
DTSTART:20221030T010000
END:STANDARD
BEGIN:DAYLIGHT
TZOFFSETFROM:+0100
TZOFFSETTO:+0200
TZNAME:CEST
DTSTART:20230326T010000
END:DAYLIGHT
BEGIN:STANDARD
TZOFFSETFROM:+0200
TZOFFSETTO:+0100
TZNAME:CET
DTSTART:20231029T010000
END:STANDARD
END:VTIMEZONE
BEGIN:VEVENT
DTSTART;TZID=Europe/Paris:20221117T090000
DTEND;TZID=Europe/Paris:20221117T170000
DTSTAMP:20260420T221659
CREATED:20220616T080455Z
LAST-MODIFIED:20220616T080455Z
UID:10000054-1668675600-1668704400@face-maineetloire.com
SUMMARY:Journée d'intelligence collective
DESCRIPTION:Envie de développer votre impact social local ?\nParticipez à notre journée d’intelligence collective pour développer ensemble des solutions clés en main en faveur de l’égalité\, de la diversité et de l’inclusion. \nVous pourrez rencontrer d’autres entreprises et élaborer ensemble des solutions et actions concrètes pour favoriser votre engagement et celui de vos équipes en vue de développer votre impact sociétal sur le territoire. \nUn événement de FACE Angers Loire\, dédié aux entreprises et animé par Charlotte Baranger de We Act \nLes inscriptions sont ouvertes ! Cliquez sur ce lien pour réserver votre place.
URL:https://face-maineetloire.com/event/journee-dintelligence-collective/
CATEGORIES:Entreprises
ATTACH;FMTTYPE=image/png:https://face-maineetloire.com/wp-content/uploads/2022/06/Eventbrite-171122.png
END:VEVENT
BEGIN:VEVENT
DTSTART;TZID=Europe/Paris:20221123T000000
DTEND;TZID=Europe/Paris:20221123T235959
DTSTAMP:20260420T221659
CREATED:20220805T084901Z
LAST-MODIFIED:20220805T084901Z
UID:10000061-1669161600-1669247999@face-maineetloire.com
SUMMARY:Forum Connected Women
DESCRIPTION:FACE Angers Loire sera présent au Forum Connected Women organisé par Angers French Tech les 23 et 24 novembre. \n  \nVenez nous rencontrer le 23 novembre pendant la journée placée sous le signe de l’inspiration à destination des jeunes. \nL’occasion pour nous de mettre en avant le programme Wi-Filles. \n  \nPour en savoir plus sur le Forum et le programme\, rendez-vous sur ce lien.
URL:https://face-maineetloire.com/event/forum-connected-women/
CATEGORIES:Orientation & Formation
ATTACH;FMTTYPE=image/jpeg:https://face-maineetloire.com/wp-content/uploads/2022/08/Affiche_paysage40x60_72dpi.jpg
END:VEVENT
END:VCALENDAR