BEGIN:VCALENDAR
VERSION:2.0
PRODID:-//FACE Maine et Loire - ECPv6.15.17.1//NONSGML v1.0//EN
CALSCALE:GREGORIAN
METHOD:PUBLISH
X-ORIGINAL-URL:https://face-maineetloire.com
X-WR-CALDESC:Évènements pour FACE Maine et Loire
REFRESH-INTERVAL;VALUE=DURATION:PT1H
X-Robots-Tag:noindex
X-PUBLISHED-TTL:PT1H
BEGIN:VTIMEZONE
TZID:Europe/Paris
BEGIN:DAYLIGHT
TZOFFSETFROM:+0100
TZOFFSETTO:+0200
TZNAME:CEST
DTSTART:20220327T010000
END:DAYLIGHT
BEGIN:STANDARD
TZOFFSETFROM:+0200
TZOFFSETTO:+0100
TZNAME:CET
DTSTART:20221030T010000
END:STANDARD
BEGIN:DAYLIGHT
TZOFFSETFROM:+0100
TZOFFSETTO:+0200
TZNAME:CEST
DTSTART:20230326T010000
END:DAYLIGHT
BEGIN:STANDARD
TZOFFSETFROM:+0200
TZOFFSETTO:+0100
TZNAME:CET
DTSTART:20231029T010000
END:STANDARD
BEGIN:DAYLIGHT
TZOFFSETFROM:+0100
TZOFFSETTO:+0200
TZNAME:CEST
DTSTART:20240331T010000
END:DAYLIGHT
BEGIN:STANDARD
TZOFFSETFROM:+0200
TZOFFSETTO:+0100
TZNAME:CET
DTSTART:20241027T010000
END:STANDARD
END:VTIMEZONE
BEGIN:VEVENT
DTSTART;TZID=Europe/Paris:20230125T150000
DTEND;TZID=Europe/Paris:20230125T173000
DTSTAMP:20260420T190653
CREATED:20230105T110541Z
LAST-MODIFIED:20230105T110541Z
UID:10000066-1674658800-1674667800@face-maineetloire.com
SUMMARY:Les après-midi Wi-Filles : Visite My Digital School et Studio M
DESCRIPTION:Inscription en cliquant ici. \nWi-Filles est un programme qui s’adresse aux collégiennes et lycéennes et qui les invite à découvrir les métiers du numérique et de la tech. \nLe 25 janvier 2023\, nous vous proposons de visiter les écoles My Digital School et Studio M. \n\n\n\n\nLa visite\n\n\n\n\n\nPour qui ? Les filles qui ont participé au programme Wi-Filles et celles qui souhaitent découvrir l’univers du numérique de la tech\n\n\nPoints de rendez-vous (précisez l’option choisie en vous inscrivant) :\nOption 1 : Boulevard Foch\, arrêt Foch maison bleue pour prendre le bus ensemble. Rdv à 14h20\nOption 2 : My Digital School et Studio M\, Rue Georges Mandel\, 49000 Angers. Rdv à 14h55\n\n\nHoraires de la visite encadrée : 15h00-17h30\nTarif : Gratuit\n\n\nNombre de places limité. Inscription obligatoire. Les adultes ne peuvent pas accompagner les participantes\, elles seront encadrées par les chargées du programme Wi-Filles.\n\n\n\n\n\nProgramme de l’après-midi\n\n\n\n\n\nRencontres avec des étudiant(e)s et des professeurs\nParticipation aux activités (image & son)\nImmersion au sein de la Game Jam (challenge inter-écoles pour créer un jeu vidéo en 5 jours)\nDécouverte du cours de stratégie social media
URL:https://face-maineetloire.com/event/apres-midi-wifilles-2/
CATEGORIES:Orientation & Formation
ATTACH;FMTTYPE=image/png:https://face-maineetloire.com/wp-content/uploads/2023/01/AMWF-230125.png
END:VEVENT
END:VCALENDAR