BEGIN:VCALENDAR
VERSION:2.0
PRODID:-//FACE Maine et Loire - ECPv6.15.17.1//NONSGML v1.0//EN
CALSCALE:GREGORIAN
METHOD:PUBLISH
X-ORIGINAL-URL:https://face-maineetloire.com
X-WR-CALDESC:Évènements pour FACE Maine et Loire
REFRESH-INTERVAL;VALUE=DURATION:PT1H
X-Robots-Tag:noindex
X-PUBLISHED-TTL:PT1H
BEGIN:VTIMEZONE
TZID:Europe/Paris
BEGIN:DAYLIGHT
TZOFFSETFROM:+0100
TZOFFSETTO:+0200
TZNAME:CEST
DTSTART:20220327T010000
END:DAYLIGHT
BEGIN:STANDARD
TZOFFSETFROM:+0200
TZOFFSETTO:+0100
TZNAME:CET
DTSTART:20221030T010000
END:STANDARD
BEGIN:DAYLIGHT
TZOFFSETFROM:+0100
TZOFFSETTO:+0200
TZNAME:CEST
DTSTART:20230326T010000
END:DAYLIGHT
BEGIN:STANDARD
TZOFFSETFROM:+0200
TZOFFSETTO:+0100
TZNAME:CET
DTSTART:20231029T010000
END:STANDARD
BEGIN:DAYLIGHT
TZOFFSETFROM:+0100
TZOFFSETTO:+0200
TZNAME:CEST
DTSTART:20240331T010000
END:DAYLIGHT
BEGIN:STANDARD
TZOFFSETFROM:+0200
TZOFFSETTO:+0100
TZNAME:CET
DTSTART:20241027T010000
END:STANDARD
END:VTIMEZONE
BEGIN:VEVENT
DTSTART;TZID=Europe/Paris:20230601T080000
DTEND;TZID=Europe/Paris:20230601T093000
DTSTAMP:20260422T112918
CREATED:20230424T111318Z
LAST-MODIFIED:20230424T111318Z
UID:10000075-1685606400-1685611800@face-maineetloire.com
SUMMARY:1er Rendez-vous Adhérent
DESCRIPTION:Adhérent·e·s\, venez participer à votre premier rendez-vous 2023 !\n📅 Jeudi 1 juin 2023 \n⌚ De 8h00 à 9h30 \n📍 Randstad – 39 Bd Pierre de Coubertin\, 49100 Angers\n \nAu programme : \n👀 Ce rendez-vous a pour objectif de privilégier les rencontres et les échanges entre adhérents du club FACE autour d’un petit déjeuner pour mieux se connaître ! \n💡 Des animations et des moments conviviaux vous seront proposés tout au long du rendez-vous \nVotre inscription :\n📝 Contactez Adeline Jouin et envoyez votre demande de participation à l’adresse : clubfaceangersloire@gmail.com
URL:https://face-maineetloire.com/event/1er-rendez-vous-adherent/
LOCATION:Restoria\, 51 Bd de la Romanerie\, Saint-Barthélemy-d'Anjou\, Angers\, Maine-et-Loire\, 49124\, France
ATTACH;FMTTYPE=image/jpeg:https://face-maineetloire.com/wp-content/uploads/2023/04/Premier-RDV-Adherent.jpg
GEO:47.4826455;-0.5048142
X-APPLE-STRUCTURED-LOCATION;VALUE=URI;X-ADDRESS=Restoria 51 Bd de la Romanerie Saint-Barthélemy-d'Anjou Angers Maine-et-Loire 49124 France;X-APPLE-RADIUS=500;X-TITLE=51 Bd de la Romanerie\, Saint-Barthélemy-d'Anjou:geo:-0.5048142,47.4826455
END:VEVENT
BEGIN:VEVENT
DTSTART;TZID=Europe/Paris:20230608T090000
DTEND;TZID=Europe/Paris:20230608T133000
DTSTAMP:20260422T112918
CREATED:20230517T142337Z
LAST-MODIFIED:20230517T142337Z
UID:10000077-1686214800-1686231000@face-maineetloire.com
SUMMARY:Le Train de l'Emploi et de la Mobilité
DESCRIPTION:Circulant entre Cholet et Angers\, avec un temps fort dans chaque ville\, le Train de l’Emploi et de la Mobilité s’adresse aux jeunes de 16 à 30 ans. \nA bord et à quai : \n\nDes offres d’emploi\, de stage et d’alternance\nDes rencontres avec des entreprises\nLa présentation de solutions mobilités\n\nLe programme :\n\n9h00-10h30 : Lancement à Cholet | Démarrez la journée autour d’un café et d’une activité ludique. Avec toutes les personnes participant à l’événement.\n10h30-11h30 : Voyage en train de Cholet à Angers | A bord du train\, les entreprises pitchent leurs opportunités aux personnes à la recherche d’un emploi. Rencontrez une entreprise pendant 5 minutes avant d’échanger avec la suivante.\n11h00-13h30 : Ateliers à Angers | Poursuivez les échanges avec les entreprises et découvrez les solutions et aides à la mobilité qui s’offrent à vous (transports en commun\, vélos et trottinettes électriques\, aide au permis de conduire…).\n\nChoisissez la formule que vous convient le mieux :\n\n1 : Participez au lancement à Cholet\, aux échanges avec les entreprises à bord du train et aux activités en gare d’Angers. Retour vers Cholet inclus.\nBonus : si vous venez d’Angers\, votre trajet vers Cholet avant 9h est inclus (merci de le préciser dans votre inscription).\n2 : En gare d’Angers\, profitez des ateliers mobilité et discutez avec les entreprises qui ont embarqué dans le train. Venez au moment qui vous convient entre 11h00 et 13h30.\n\nVotre inscription :\nL’événement vous intéresse ? N’hésitez pas à vous inscrire sur Eventbrite par ici !
URL:https://face-maineetloire.com/event/train-emploi-mobilite/
ATTACH;FMTTYPE=image/jpeg:https://face-maineetloire.com/wp-content/uploads/2023/05/TEM-Eventbrite.jpg
END:VEVENT
BEGIN:VEVENT
DTSTART;TZID=Europe/Paris:20230616T083000
DTEND;TZID=Europe/Paris:20230616T120000
DTSTAMP:20260422T112918
CREATED:20230414T120633Z
LAST-MODIFIED:20230414T120633Z
UID:10000072-1686904200-1686916800@face-maineetloire.com
SUMMARY:Les Entreprises S'Engagent : Rendez-vous Partage de Bonnes Pratiques
DESCRIPTION:Le rendez-vous des entreprises engagées pour l’Inclusion\n📅 Vendredi 16 juin 2023\n⌚ De 8h30 à 12h00\n📍 Préfecture de Maine-et-Loire\, 11 Pl. Michel Debré\, 49100 Angers\n  \n📌 Organisé en présence de Monsieur Le Préfet\, Pierre OURY\, et la Secrétaire Générale Magali DAVERTON\, ce rendez-vous réunira les partenaires institutionnels et économiques du territoire qui œuvrent pour l’inclusion et l’emploi dans un monde plus durable. \n🔎 Le collectif Les Entreprises s’Engagent en Maine-et-Loire vise à encourager les entreprises à s’engager localement\, ainsi cet événement sera l’opportunité de mettre en lumière le dispositif PAQTE ainsi que le SPIE et France Travail. \n  \n💡 Programme de l’événement\n• Rencontres des entreprises du collectif et échanges autour de thématiques sociales et sociétales (le Handicap\, les Jeunes et les Seniors) \n• Présentation des différentes actions et événements de l’année 2023 du collectif \n• Définition de l’action commune pour le deuxième semestre \n• Présentation des différentes aides à l’embauche et partage de bonnes pratiques entre pairs. \n  \n🔎 Vous souhaitez en savoir plus sur le collectif Les Entreprises S’Engagent ?\n➡️ Rendez-vous sur la page du club FACE Maine-et-Loire\, l’animateur du collectif local \n➡️ Pour en savoir plus sur le collectif\, demandez un rendez-vous Point Flash avec nous en envoyant un mail à communication.face49@gmail.com \nVotre inscription\n📝 N’hésitez pas à vous inscrire sur Eventbrite !
URL:https://face-maineetloire.com/event/les-entreprises-sengagent-rendez-vous-partage-de-bonnes-pratiques/
LOCATION:Angers\, Angers\, Maine-et-Loire\, France
CATEGORIES:Entreprises
ATTACH;FMTTYPE=image/jpeg:https://face-maineetloire.com/wp-content/uploads/2023/04/Invitation-16-juin.jpg
GEO:47.4711616;-0.5518257
END:VEVENT
BEGIN:VEVENT
DTSTART;TZID=Europe/Paris:20230627T113000
DTEND;TZID=Europe/Paris:20230627T133000
DTSTAMP:20260422T112918
CREATED:20230426T143410Z
LAST-MODIFIED:20230426T143410Z
UID:10000076-1687865400-1687872600@face-maineetloire.com
SUMMARY:Votre Impact Puissance 3
DESCRIPTION:Venez participer à votre rendez-vous réseaux IRESA\, ADECC & FACE Maine-et-Loire !\n📅 Mardi 27 juin 2023 \n⌚ De 11h30 à 13h30 \n📍 Empreinte Digitale – 11 rue des Noyers\, 49000 Angers\n \nAu programme : \n👀 Ce rendez-vous a pour objectif de développer les rencontres et les échanges entre adhérents des trois réseaux d’entreprises de l’ADECC\, de l’IRESA ainsi que du club FACE Maine-et-Loire autour de tables-rondes\, animées par des spécialistes sur les thèmes suivants : \n\nConstruire une stratégie à impact\,\nCommuniquer sur ses engagements\,\nMesurer son impact.\n\n🎯 Objectif principal de l’événement : Trouver des solutions pour améliorer et valoriser les impacts sociaux\, sociétaux et environnementaux de votre structure. \n💡 Des animations et des moments conviviaux vous seront proposés pour mieux se connaître ! \nVotre inscription :\n📝 Vous pouvez d’ores et déjà vous inscrire sur le lien Eventbrite !
URL:https://face-maineetloire.com/event/votre-impact-puissance-3/
LOCATION:Empreinte Digitale\, 11 rue des Noyers\, Angers\, 49000\, France
ATTACH;FMTTYPE=image/png:https://face-maineetloire.com/wp-content/uploads/2023/04/Votre-impact-x3-V1.png
GEO:47.4654118;-0.5321058
X-APPLE-STRUCTURED-LOCATION;VALUE=URI;X-ADDRESS=Empreinte Digitale 11 rue des Noyers Angers 49000 France;X-APPLE-RADIUS=500;X-TITLE=11 rue des Noyers:geo:-0.5321058,47.4654118
END:VEVENT
END:VCALENDAR