BEGIN:VCALENDAR
VERSION:2.0
PRODID:-//FACE Maine et Loire - ECPv6.15.17.1//NONSGML v1.0//EN
CALSCALE:GREGORIAN
METHOD:PUBLISH
X-ORIGINAL-URL:https://face-maineetloire.com
X-WR-CALDESC:Évènements pour FACE Maine et Loire
REFRESH-INTERVAL;VALUE=DURATION:PT1H
X-Robots-Tag:noindex
X-PUBLISHED-TTL:PT1H
BEGIN:VTIMEZONE
TZID:Europe/Paris
BEGIN:DAYLIGHT
TZOFFSETFROM:+0100
TZOFFSETTO:+0200
TZNAME:CEST
DTSTART:20220327T010000
END:DAYLIGHT
BEGIN:STANDARD
TZOFFSETFROM:+0200
TZOFFSETTO:+0100
TZNAME:CET
DTSTART:20221030T010000
END:STANDARD
BEGIN:DAYLIGHT
TZOFFSETFROM:+0100
TZOFFSETTO:+0200
TZNAME:CEST
DTSTART:20230326T010000
END:DAYLIGHT
BEGIN:STANDARD
TZOFFSETFROM:+0200
TZOFFSETTO:+0100
TZNAME:CET
DTSTART:20231029T010000
END:STANDARD
BEGIN:DAYLIGHT
TZOFFSETFROM:+0100
TZOFFSETTO:+0200
TZNAME:CEST
DTSTART:20240331T010000
END:DAYLIGHT
BEGIN:STANDARD
TZOFFSETFROM:+0200
TZOFFSETTO:+0100
TZNAME:CET
DTSTART:20241027T010000
END:STANDARD
END:VTIMEZONE
BEGIN:VEVENT
DTSTART;TZID=Europe/Paris:20230726T090000
DTEND;TZID=Europe/Paris:20230726T120000
DTSTAMP:20260420T085644
CREATED:20220703T140058Z
LAST-MODIFIED:20220703T140058Z
UID:10000065-1690362000-1690372800@face-maineetloire.com
SUMMARY:Simulations d'entretiens de recrutement
DESCRIPTION:🤔 Projet pour 2023 ? Cartonner aux entretiens de recrutement ! \n😉 Première étape : Se préparer ! \n💡 Action : Participer aux simulations d’entretiens de recrutement organisées par FACE Maine-et-Loire et la SOFTEC !\nMercredi 26 juillet 2023\,\nDe 9h00 à 12h00. \nIl y a 10 places ! Contactez Julie si vous êtes intéressé·e pour participer à cet exercice.\nPour cela\, rien de plus simple\, envoyez un mail à jr.faceangersloire@gmail.com
URL:https://face-maineetloire.com/event/simulations-dentretiens-de-recrutement/
LOCATION:SOFTEC\, Chemin du Bocage\, Avrillé\, 49240\, France
CATEGORIES:Emploi
ATTACH;FMTTYPE=image/jpeg:https://face-maineetloire.com/wp-content/uploads/2022/12/Softec-26-07.jpg
GEO:47.5027942;-0.5815658
X-APPLE-STRUCTURED-LOCATION;VALUE=URI;X-ADDRESS=SOFTEC Chemin du Bocage Avrillé 49240 France;X-APPLE-RADIUS=500;X-TITLE=Chemin du Bocage:geo:-0.5815658,47.5027942
END:VEVENT
END:VCALENDAR