BEGIN:VCALENDAR
VERSION:2.0
PRODID:-//FACE Maine et Loire - ECPv6.15.17.1//NONSGML v1.0//EN
CALSCALE:GREGORIAN
METHOD:PUBLISH
X-WR-CALNAME:FACE Maine et Loire
X-ORIGINAL-URL:https://face-maineetloire.com
X-WR-CALDESC:Évènements pour FACE Maine et Loire
REFRESH-INTERVAL;VALUE=DURATION:PT1H
X-Robots-Tag:noindex
X-PUBLISHED-TTL:PT1H
BEGIN:VTIMEZONE
TZID:Europe/Paris
BEGIN:DAYLIGHT
TZOFFSETFROM:+0100
TZOFFSETTO:+0200
TZNAME:CEST
DTSTART:20220327T010000
END:DAYLIGHT
BEGIN:STANDARD
TZOFFSETFROM:+0200
TZOFFSETTO:+0100
TZNAME:CET
DTSTART:20221030T010000
END:STANDARD
BEGIN:DAYLIGHT
TZOFFSETFROM:+0100
TZOFFSETTO:+0200
TZNAME:CEST
DTSTART:20230326T010000
END:DAYLIGHT
BEGIN:STANDARD
TZOFFSETFROM:+0200
TZOFFSETTO:+0100
TZNAME:CET
DTSTART:20231029T010000
END:STANDARD
BEGIN:DAYLIGHT
TZOFFSETFROM:+0100
TZOFFSETTO:+0200
TZNAME:CEST
DTSTART:20240331T010000
END:DAYLIGHT
BEGIN:STANDARD
TZOFFSETFROM:+0200
TZOFFSETTO:+0100
TZNAME:CET
DTSTART:20241027T010000
END:STANDARD
END:VTIMEZONE
BEGIN:VEVENT
DTSTART;TZID=Europe/Paris:20231012T083000
DTEND;TZID=Europe/Paris:20231012T093000
DTSTAMP:20260420T040351
CREATED:20230908T122219Z
LAST-MODIFIED:20230908T122219Z
UID:10000081-1697099400-1697103000@face-maineetloire.com
SUMMARY:Les Pitchs qui nourrissent votre RSE - 4ème édition
DESCRIPTION:5 acteurs locaux pitchent leur(s) solution(s) pour aider les entreprises dans leur impact sociétal et environnemental sur le territoire ! \n\nÀ propos de cet évènement\n\n\n\n\n⏱️ Chaque pitcheur dispose de 8 minutes pour présenter son service aux entreprises présentes. Cette solution doit être en mesure d’aider les entreprises dans leur impact sociétal et environnemental local. \n💡 Après ces 8 minutes\, chaque entreprise peut faire le choix de poursuivre les échanges autour de douceurs et de boissons chaudes. \n  \n🔎 Programme de l’évènement\n👋 Bonjour : Le mot d’accueil de FACE Maine-et-Loire et présentation des actualités du Club \n🎙️ Pitchs : Les acteurs locaux vous présentent leur(s) solution(s) pour vous aider dans votre impact sociétal et environnemental \n☕ Échanges : Questions/réponses entre participant·e·s autour d’un petit-déjeuner \n  \n 🎈 Pitcheurs invité·e·s\n🌞 Okamac \n🌞 Made in Clémence \n🌞 Limygo \n🌞 Handirect Service \n🌞 Contrat Emploi Anjou \n  \n\n🔆 Inscription\nPour participer à l’événement\, rien de plus simple ! Il suffit de vous inscrire sur le lien Eventbrite.
URL:https://face-maineetloire.com/event/les-pitchs-qui-nourrissent-votre-rse-4eme-edition/
LOCATION:MSD Santé Animale\, 7 Rue Olivier de Serres\, Beaucouzé\, 49070\, France
CATEGORIES:Entreprises
ATTACH;FMTTYPE=image/jpeg:https://face-maineetloire.com/wp-content/uploads/2023/08/Pitchs-de-la-RSE-4eme-edition-1.jpg
GEO:47.477066;-0.614786
X-APPLE-STRUCTURED-LOCATION;VALUE=URI;X-ADDRESS=MSD Santé Animale 7 Rue Olivier de Serres Beaucouzé 49070 France;X-APPLE-RADIUS=500;X-TITLE=7 Rue Olivier de Serres:geo:-0.614786,47.477066
END:VEVENT
BEGIN:VEVENT
DTSTART;TZID=Europe/Paris:20231020T180000
DTEND;TZID=Europe/Paris:20231020T190000
DTSTAMP:20260420T040351
CREATED:20230908T122710Z
LAST-MODIFIED:20250123T110424Z
UID:10000084-1697824800-1697828400@face-maineetloire.com
SUMMARY:Votre Impact Puissance 3 : Spécial RSE
DESCRIPTION:À propos de cet évènement\n\n\n\n\n📅 Vendredi 20 octobre 2023 \n⌚ De 18h00 à 19h00 \n📍 Salle intercommunale des Bois – D347E\, 49400 Distré \n  \n💡Dans le cadre du salon « Boost tes rêves » dédié aux entrepreneurs post création organisé par la JCE du Saumurois avec le soutien de l’Agglomération de Saumur\, les 3 réseaux de l’ADECC\, FACE et l’IRESA s’unissent pour vous proposer un temps autour de la RSE. \n  \nAu programme : \n\ncomprendre la RSE et ses enjeux dans votre entreprise\,\ndécouvrir 3 des principaux réseaux du Maine-et-Loire pour développer sa RSE (l’ADECC pour l’économie circulaire\, FACE pour l’inclusion et l’IRESA pour l’économie sociale et solidaire)\,\nvous proposer des solutions et des actions concrètes pour mettre en place des démarches RSE dans votre entreprise.\n\n  \n🎯 Objectif principal : Trouver des solutions pour améliorer et valoriser les impacts sociaux\, sociétaux et environnementaux de votre structure. \nVotre inscription :\n📝 Vous pouvez d’ores et déjà vous inscrire sur le lien Eventbrite !
URL:https://face-maineetloire.com/event/votre-impact-puissance-3-special-rse/
LOCATION:Salle intercommunale des Bois – D347E\, 49400 Distré\, D347E\, Distré\, 49400\, France
ATTACH;FMTTYPE=image/png:https://face-maineetloire.com/wp-content/uploads/2023/08/Votre-impact-x3-Special-RSE-Made-in-Saumur.png
GEO:47.234841;-0.104897
X-APPLE-STRUCTURED-LOCATION;VALUE=URI;X-ADDRESS=Salle intercommunale des Bois – D347E 49400 Distré D347E Distré 49400 France;X-APPLE-RADIUS=500;X-TITLE=D347E:geo:-0.104897,47.234841
END:VEVENT
BEGIN:VEVENT
DTSTART;TZID=Europe/Paris:20231023T090000
DTEND;TZID=Europe/Paris:20231027T130000
DTSTAMP:20260420T040351
CREATED:20230901T092516Z
LAST-MODIFIED:20230901T092516Z
UID:10000082-1698051600-1698411600@face-maineetloire.com
SUMMARY:Wi-Filles Autumn Camp 2023
DESCRIPTION: Wi-Filles Autumn Camp est complet ! \nN’hésitez pas à vous rapprocher d’Aurélie si vous souhaitez des informations complémentaires sur les prochaines sessions de Wi-Filles : am.faceangersloire@gmail.com \nProgramme de la semaine\n\n\n\nInitiation à la programmation dans une école d’ingénieur·e·s\nAteliers découverte de la cybersécurité et de l’intelligence artificielle\nRéseaux sociaux et vie privée\nImmersion au cœur des start up angevines\nAtelier médias et stéréotypes de genre\nPatrimoine et numérique\n\n\n\n\n\nLe lieu précis de départ des activités vous sera communiqué après l’inscription. \n\n\nHoraires\n\nDébut de la journée : 9h00 (rdv au point de départ des activités qui reste le même chaque jour)\nFin de la journée : 16h30 (retour au point de départ)\n\nInformations complémentaires\n\nPour les filles de 12 à 14 ans\,\nÀ Angers\,\nSemaine encadrée par 2 chargées de mission de FACE Maine-et-Loire : Aurélie et Marie\,\nGratuit (seul le déjeuner du midi doit être fourni\, transport pris en charge si vous ne disposez pas de titre de transport)\,\nEn bonus : 🍪\n\nEn participant au camp d’automne de Wi-Filles\, vous vous engagez à venir aux activités proposées tout au long de la semaine. \nPourquoi « 100% filles » ?\nDans les métiers du numérique\, on compte nettement plus d’hommes que de femmes. Elles sont 30% à travailler dans ce secteur d’activité. Dans les écoles qui forment aux métiers du numérique\, les filles sont aussi largement moins nombreuses que les garçons. Wi-Filles a été créé pour faire découvrir les opportunités dont regorge ce secteur aux collégiennes et aux lycéennes. Du plus technique au créatif en passant par l’innovant\, il existe tellement de métiers dans le numérique et la tech qu’il y en a pour tous les goûts ! \nPendant la semaine\, les participantes pourront rencontrer des personnes qui travaillent dans le numérique\, des étudiant·e·s mais aussi des hommes et des femmes qui utilisent le numérique au quotidien et auxquels on ne pense pas forcément ! Des ateliers pratiques sont organisés afin d’apprendre en faisant et de se challenger (il paraît que l’informatique ne fonctionne jamais du premier coup mais ce n’est pas grave\, n’est-ce pas ? 😉). \nVous pouvez aller voir les activités réalisées par les anciennes Wi-Filles sur notre compte Instagram @wifilles49 ou écouter ce podcast pour en savoir plus. \nPour vous inscrire\, cliquez ici.\n  \nDes questions ? Contactez Aurélie à am.faceangersloire@gmail.com\, au 07.84.83.90.39 ou directement sur Instagram @wifilles49 \n  \nWi-Filles Autumn Camp\, un programme de FACE Maine-et-Loire\, réalisé avec le soutien d’Enedis et avec la participation d’entreprises et écoles du territoire angevin.
URL:https://face-maineetloire.com/event/wfac-2023/
LOCATION:Angers\, Angers\, Maine-et-Loire\, France
CATEGORIES:Orientation & Formation
ATTACH;FMTTYPE=image/jpeg:https://face-maineetloire.com/wp-content/uploads/2023/07/Wi-Filles-Autumn-Camp.jpg
GEO:47.4711616;-0.5518257
END:VEVENT
END:VCALENDAR