BEGIN:VCALENDAR
VERSION:2.0
PRODID:-//FACE Maine et Loire - ECPv6.15.17.1//NONSGML v1.0//EN
CALSCALE:GREGORIAN
METHOD:PUBLISH
X-WR-CALNAME:FACE Maine et Loire
X-ORIGINAL-URL:https://face-maineetloire.com
X-WR-CALDESC:Évènements pour FACE Maine et Loire
REFRESH-INTERVAL;VALUE=DURATION:PT1H
X-Robots-Tag:noindex
X-PUBLISHED-TTL:PT1H
BEGIN:VTIMEZONE
TZID:Europe/Paris
BEGIN:DAYLIGHT
TZOFFSETFROM:+0100
TZOFFSETTO:+0200
TZNAME:CEST
DTSTART:20200329T010000
END:DAYLIGHT
BEGIN:STANDARD
TZOFFSETFROM:+0200
TZOFFSETTO:+0100
TZNAME:CET
DTSTART:20201025T010000
END:STANDARD
BEGIN:DAYLIGHT
TZOFFSETFROM:+0100
TZOFFSETTO:+0200
TZNAME:CEST
DTSTART:20210328T010000
END:DAYLIGHT
BEGIN:STANDARD
TZOFFSETFROM:+0200
TZOFFSETTO:+0100
TZNAME:CET
DTSTART:20211031T010000
END:STANDARD
BEGIN:DAYLIGHT
TZOFFSETFROM:+0100
TZOFFSETTO:+0200
TZNAME:CEST
DTSTART:20220327T010000
END:DAYLIGHT
BEGIN:STANDARD
TZOFFSETFROM:+0200
TZOFFSETTO:+0100
TZNAME:CET
DTSTART:20221030T010000
END:STANDARD
END:VTIMEZONE
BEGIN:VEVENT
DTSTART;TZID=Europe/Paris:20211025T090000
DTEND;TZID=Europe/Paris:20211029T133000
DTSTAMP:20260423T194152
CREATED:20210728T135035Z
LAST-MODIFIED:20210728T135035Z
UID:10000039-1635152400-1635514200@face-maineetloire.com
SUMMARY:Wi-Filles Autumn Camp
DESCRIPTION:Plongez le monde du numérique et de la tech pendant les vacances de la Toussaint avec Wi-Filles Autumn Camp ! \n\n\n\nLe programme de la semaine\n\n\n\nLe lieu précis des activités vous sera communiqué après l’inscription.👩‍💻 Lundi : Initiation à la programmation dans une école d’ingénieur·e·s (Journée)👩‍🎓 Mardi : Dans le quotidien d’étudiant·e·s dans une école du numérique (rencontres et ateliers) (Journée)🏢 Mercredi : Numérique\, Culture & Patrimoine (Matin) / Visite d’entreprise (Après-midi)🗨️ Jeudi : Rencontre avec les nantaises de Girls Are Coding et immersion au cœur des start up angevines (Journée)🥽 Vendredi : La réalité virtuelle (Matin) \n\n\n\nHoraires\n\n\n\nLes activités ont lieu de 10h à 16h.Les participantes peuvent venir directement sur le lieu des activités (en prenant soin d’être à l’heure) ou partir avec celles qui le souhaitent d’un point de rendez-vous près d’Angers Iceparc (nous irons ensuite vers les différentes activités en groupe). Dans ce cas\, le rendez-vous est à 9h et le retour à 16h30 au point de départ. \n\n\n\nInformations complémentaires\n\n\n\nPour les filles de 14 à 17 ansA AngersSur inscription\, nombre de places limitéGratuit (seul le déjeuner du midi doit être fourni\, transport pris en charge)En bonus : 🍪\n\n\n\n> S’inscrire à Wi-Filles Autumn Camp <\n\n\n\nWi-Filles Autumn Camp\, un programme de FACE Angers Loire\, réalisé avec le soutien d’ADN Solidarity\, d’Enedis et avec la participation d’entreprises et écoles du territoire angevin
URL:https://face-maineetloire.com/event/wi-filles-autumn-camp-2/
CATEGORIES:Orientation & Formation
ATTACH;FMTTYPE=image/png:https://face-maineetloire.com/wp-content/uploads/2021/07/Illustrations-The-Events-Calendar-WFAC-1.png
END:VEVENT
BEGIN:VEVENT
DTSTART;TZID=Europe/Paris:20211011T000000
DTEND;TZID=Europe/Paris:20211015T235959
DTSTAMP:20260423T194152
CREATED:20210730T102108Z
LAST-MODIFIED:20210730T102108Z
UID:10000040-1633910400-1634342399@face-maineetloire.com
SUMMARY:Ateliers techniques de recherche d'emploi
DESCRIPTION:Une semaine d’ateliers collectifs dans le cadre de l’action FACEMPLOI. \nAu programme\n\nVisites d’entreprises\nAteliers techniques de recherche d’emploi\nPréparation à l’entretien de recrutement\nIdentification et valorisation de ses compétences et savoir-être\n\nTous les ateliers menés dans le cadre de cette semaine sont animés par des professionnel·le·s en activité ! \nPour qui ?\nPublic : Personnes à la recherche d’un emploi et inscrites à Pôle Emploi \nNombre de places : 12 \nInscription\nInscription obligatoire. Une rencontre et un échange préalable avec les chargés de mission de FACE Angers Loire aura lieu avant la semaine d’ateliers pour savoir si cette action peut répondre à vos besoins. \nContacts : \n\nKevin Siao : ks.faceangersloire@gmail.com | 06.82.00.74.71\nJulie Rondier : jr.faceangersloire@gmail.com | 07.84.83.90.28\n\n 
URL:https://face-maineetloire.com/event/ateliers-techniques-de-recherche-demploi/
ATTACH;FMTTYPE=image/png:https://face-maineetloire.com/wp-content/uploads/2021/05/Emploi-Atelier.png
END:VEVENT
END:VCALENDAR